BEGIN:VCALENDAR
VERSION:2.0
PRODID:-//Agustinos Recoletos - ECPv6.15.20//NONSGML v1.0//EN
CALSCALE:GREGORIAN
METHOD:PUBLISH
X-ORIGINAL-URL:https://santamonicaoar.mx
X-WR-CALDESC:Eventos para Agustinos Recoletos
REFRESH-INTERVAL;VALUE=DURATION:PT1H
X-Robots-Tag:noindex
X-PUBLISHED-TTL:PT1H
BEGIN:VTIMEZONE
TZID:America/Mexico_City
BEGIN:STANDARD
TZOFFSETFROM:-0600
TZOFFSETTO:-0600
TZNAME:CST
DTSTART:20240101T000000
END:STANDARD
END:VTIMEZONE
BEGIN:VEVENT
DTSTART;VALUE=DATE:20250810
DTEND;VALUE=DATE:20250811
DTSTAMP:20260419T062407
CREATED:20250106T235154Z
LAST-MODIFIED:20250107T010340Z
UID:31480-1754784000-1754870399@santamonicaoar.mx
SUMMARY:FIESTA DE SAN LORENZO
DESCRIPTION:FIESTA DE SAN LORENZO XOCHIMANCA
URL:https://santamonicaoar.mx/actividad/fiesta-de-san-lorenzo/
ATTACH;FMTTYPE=image/jpeg:https://santamonicaoar.mx/wp-content/uploads/2025/01/CAPILLA-DE-SAN-LORENZO-Image-2025-01-06-at-17.40.28.jpeg
END:VEVENT
END:VCALENDAR